BEGIN:VCALENDAR
VERSION:2.0
PRODID:-//Malvern Hills District Footpath Society - ECPv6.15.20//NONSGML v1.0//EN
CALSCALE:GREGORIAN
METHOD:PUBLISH
X-ORIGINAL-URL:https://walkmalvern.org.uk
X-WR-CALDESC:Events for Malvern Hills District Footpath Society
REFRESH-INTERVAL;VALUE=DURATION:PT1H
X-Robots-Tag:noindex
X-PUBLISHED-TTL:PT1H
BEGIN:VTIMEZONE
TZID:Europe/London
BEGIN:DAYLIGHT
TZOFFSETFROM:+0000
TZOFFSETTO:+0100
TZNAME:BST
DTSTART:20230326T010000
END:DAYLIGHT
BEGIN:STANDARD
TZOFFSETFROM:+0100
TZOFFSETTO:+0000
TZNAME:GMT
DTSTART:20231029T010000
END:STANDARD
BEGIN:DAYLIGHT
TZOFFSETFROM:+0000
TZOFFSETTO:+0100
TZNAME:BST
DTSTART:20240331T010000
END:DAYLIGHT
BEGIN:STANDARD
TZOFFSETFROM:+0100
TZOFFSETTO:+0000
TZNAME:GMT
DTSTART:20241027T010000
END:STANDARD
BEGIN:DAYLIGHT
TZOFFSETFROM:+0000
TZOFFSETTO:+0100
TZNAME:BST
DTSTART:20250330T010000
END:DAYLIGHT
BEGIN:STANDARD
TZOFFSETFROM:+0100
TZOFFSETTO:+0000
TZNAME:GMT
DTSTART:20251026T010000
END:STANDARD
END:VTIMEZONE
BEGIN:VEVENT
DTSTART;TZID=Europe/London:20240406T100000
DTEND;TZID=Europe/London:20240406T150000
DTSTAMP:20260423T092245
CREATED:20240403T191007Z
LAST-MODIFIED:20240403T191007Z
UID:1064-1712397600-1712415600@walkmalvern.org.uk
SUMMARY:British Camp and Hollybush
DESCRIPTION:Meet 9:30 at Imperial Road\, or 10:00am at start. \n\n\n\nPark and meet starting at 10am from the British Campcar park (Explorer 190\, SO 763 403\, WR13 6DW) fora 10:00am of an 8.8 mile moderate/hard walk.  \n\n\n\nWe will go to Chase End Hill via the Gullet\, Hollybush(with a view of the obelisk) and Whiteleaved Oak.Mostly firm pathways but\, in three or four places\,there may still be some mud. Poles are thereforerecommended. BPL. \n\n\n\nLeaders: \n\n\n\nGill K\, Asiri – 07904 442015
URL:https://walkmalvern.org.uk/walk/british-camp-and-hollybush/
CATEGORIES:Long Walks
END:VEVENT
BEGIN:VEVENT
DTSTART;TZID=Europe/London:20240410T094500
DTEND;TZID=Europe/London:20240410T130000
DTSTAMP:20260423T092245
CREATED:20240403T190513Z
LAST-MODIFIED:20240403T190514Z
UID:1062-1712742300-1712754000@walkmalvern.org.uk
SUMMARY:Central Hills
DESCRIPTION:Meet 9.45am for 10am start. 5 miles.  Linear walk from Wyche Cutting to British Camp. Meet at the bus stop at the Wyche.  \n\n\n\nParking available at the various car parks or on the road.  \n\n\n\nChoice of higher/lower walk – decide on the day. \n\n\n\nPossible coffee at Sally’s Place at British Camp \n\n\n\nLeader:  \n\n\n\nJane – 0777851537
URL:https://walkmalvern.org.uk/walk/central-hills/
CATEGORIES:Short Walks
END:VEVENT
BEGIN:VEVENT
DTSTART;TZID=Europe/London:20240413T093000
DTEND;TZID=Europe/London:20240413T150000
DTSTAMP:20260423T092245
CREATED:20240403T191712Z
LAST-MODIFIED:20240403T191712Z
UID:1068-1713000600-1713020400@walkmalvern.org.uk
SUMMARY:Colwall Station\, The Purlieu and Evendine.
DESCRIPTION:Park and meet at Colwall Station (Explorer 190\, SO757 424) for a 10:00am start of a moderate 8 to 9 milewalk via Colwall Mill Farm\, Hoe Farm\, The Purlieuand Evendine. It will probably be muddy. BPL. \n\n\n\nYou can also meet at Imperial Road at 9.30am. \n\n\n\nLeader: \n\n\n\nRobin – 07948 569096/01684 573921
URL:https://walkmalvern.org.uk/walk/colwall-station-the-purlieu-and-evendine/
CATEGORIES:Long Walks
END:VEVENT
BEGIN:VEVENT
DTSTART;TZID=Europe/London:20240417T100000
DTEND;TZID=Europe/London:20240417T130000
DTSTAMP:20260423T092245
CREATED:20240403T192556Z
LAST-MODIFIED:20240403T192556Z
UID:1072-1713348000-1713358800@walkmalvern.org.uk
SUMMARY:Lower Broadheath
DESCRIPTION:10.00am start. Moderate walk of 4.3 miles. Over fields and lanes. \n\n\n\nParking/meet: Dew Drop Inn\, Lower Broadheath. WR2 6RR. Exp 190 SO 808564. \n\n\n\nWalk leader: \n\n\n\nAllan – 01684 891760
URL:https://walkmalvern.org.uk/walk/lower-broadheath/
CATEGORIES:Short Walks
END:VEVENT
BEGIN:VEVENT
DTSTART;TZID=Europe/London:20240420T100000
DTEND;TZID=Europe/London:20240420T150000
DTSTAMP:20260423T092245
CREATED:20240403T192024Z
LAST-MODIFIED:20240403T192025Z
UID:1070-1713607200-1713625200@walkmalvern.org.uk
SUMMARY:North Malvern Hills
DESCRIPTION:Meet at the Bandstand in Priory Park (Explorer 190\,SO 777 458\, WR14 3DS) for a 10:00am start of amoderate/hard 8 mile walk with a stiff climb up thehills. BPL. \n\n\n\nLeader: \n\n\n\nOlivia\, Asiri – 07904 442015
URL:https://walkmalvern.org.uk/walk/north-malvern-hills/
CATEGORIES:Long Walks
END:VEVENT
BEGIN:VEVENT
DTSTART;TZID=Europe/London:20240424T100000
DTEND;TZID=Europe/London:20240424T130000
DTSTAMP:20260423T092245
CREATED:20240403T193015Z
LAST-MODIFIED:20240403T193016Z
UID:1074-1713952800-1713963600@walkmalvern.org.uk
SUMMARY:Leigh Sinton Walk
DESCRIPTION:10.00  start. Fairly flat walk of 4-4.5 miles. \n\n\n\nMeet: Hospital Road off Half Key Road. Exp 190 768487. \n\n\n\nLeaders: \n\n\n\nPauline & Bob – 07799 566566\, 01684 302131
URL:https://walkmalvern.org.uk/walk/leigh-sinton-walk-2/
CATEGORIES:Short Walks
END:VEVENT
BEGIN:VEVENT
DTSTART;TZID=Europe/London:20240427T091500
DTEND;TZID=Europe/London:20240427T160000
DTSTAMP:20260423T092245
CREATED:20240229T155407Z
LAST-MODIFIED:20240403T191304Z
UID:797-1714209300-1714233600@walkmalvern.org.uk
SUMMARY:Hanbury Hall Circular
DESCRIPTION:Park and meet in Hanbury Hall National Trust carpark (Explorer 204\, SO 946 634\, WR9 7EA\, fee fornon-NT members) for a 10:00am start of a 9 mile\,mostly flat (but probably muddy) walk aroundHanbury\, Piper’s Hill and Worcester & BirminghamCanal. Refreshments and toilets in the property (NTmembership or fee required). BPL. \n\n\n\nYou can also meet at 9am at Imperial Road. \n\n\n\nLeaders:  \n\n\n\nRay and Mary07736 229751 \n\n\n\nMeet:  \n\n\n\n9:15am atImperial Road.10:00am atstart.
URL:https://walkmalvern.org.uk/walk/hanbury-hall-circular/
CATEGORIES:Long Walks
END:VEVENT
END:VCALENDAR