BEGIN:VCALENDAR
VERSION:2.0
PRODID:-//Malvern Hills District Footpath Society - ECPv6.15.20//NONSGML v1.0//EN
CALSCALE:GREGORIAN
METHOD:PUBLISH
X-ORIGINAL-URL:https://walkmalvern.org.uk
X-WR-CALDESC:Events for Malvern Hills District Footpath Society
REFRESH-INTERVAL;VALUE=DURATION:PT1H
X-Robots-Tag:noindex
X-PUBLISHED-TTL:PT1H
BEGIN:VTIMEZONE
TZID:Europe/London
BEGIN:DAYLIGHT
TZOFFSETFROM:+0000
TZOFFSETTO:+0100
TZNAME:BST
DTSTART:20230326T010000
END:DAYLIGHT
BEGIN:STANDARD
TZOFFSETFROM:+0100
TZOFFSETTO:+0000
TZNAME:GMT
DTSTART:20231029T010000
END:STANDARD
BEGIN:DAYLIGHT
TZOFFSETFROM:+0000
TZOFFSETTO:+0100
TZNAME:BST
DTSTART:20240331T010000
END:DAYLIGHT
BEGIN:STANDARD
TZOFFSETFROM:+0100
TZOFFSETTO:+0000
TZNAME:GMT
DTSTART:20241027T010000
END:STANDARD
BEGIN:DAYLIGHT
TZOFFSETFROM:+0000
TZOFFSETTO:+0100
TZNAME:BST
DTSTART:20250330T010000
END:DAYLIGHT
BEGIN:STANDARD
TZOFFSETFROM:+0100
TZOFFSETTO:+0000
TZNAME:GMT
DTSTART:20251026T010000
END:STANDARD
END:VTIMEZONE
BEGIN:VEVENT
DTSTART;TZID=Europe/London:20240203T100000
DTEND;TZID=Europe/London:20240203T130000
DTSTAMP:20260425T120504
CREATED:20240130T181851Z
LAST-MODIFIED:20240130T185436Z
UID:688-1706954400-1706965200@walkmalvern.org.uk
SUMMARY:Bishops Frome
DESCRIPTION:Scenic views. Paths and quiet country lanes. Could be muddy in places. 5 to 6 miles. May be shortened depending on weather. There is also the option to walk a longer walk\, by extending this walk with the longer walkers. \n\n\n\nWalk leader: Kevin Hill. 01684 491005. \n\n\n\nMeet at car park north of church at Bishops Frome. OS Ref 663484.
URL:https://walkmalvern.org.uk/walk/bishops-frome/
CATEGORIES:Short Walks
END:VEVENT
BEGIN:VEVENT
DTSTART;TZID=Europe/London:20240203T100000
DTEND;TZID=Europe/London:20240203T143000
DTSTAMP:20260425T120504
CREATED:20240130T182936Z
LAST-MODIFIED:20240130T185357Z
UID:690-1706954400-1706970600@walkmalvern.org.uk
SUMMARY:Bishops Frome figure of eight
DESCRIPTION:Meet 9.15am at Imperial Road\, or 10am at start. \n\n\n\nWalk leader: Kevin 01684 491005 (leave message if no answer)\, or 07984 573410 \n\n\n\nPark and meet at Bishops Frome car park (Explorer 202\, SO 663 484\, just north of the church) for a 10:00am start of a moderate 8/9 mile walk with scenic views along a combination of paths (which may well be muddy) and quiet country lanes. BPL. The lunchbreak will be close to the start. \n\n\n\nThis time\, the short walk will form the first part of this longer walk.
URL:https://walkmalvern.org.uk/walk/bishops-frome-figure-of-eight/
CATEGORIES:Long Walks
END:VEVENT
BEGIN:VEVENT
DTSTART;TZID=Europe/London:20240207T100000
DTEND;TZID=Europe/London:20240207T120000
DTSTAMP:20260425T120504
CREATED:20240130T184811Z
LAST-MODIFIED:20240130T185311Z
UID:692-1707300000-1707307200@walkmalvern.org.uk
SUMMARY:Malvern Green Spaces
DESCRIPTION:Easy 5 mile walk covering Malvern Link\, Madresfield\, Sherrards Green and Tomatoland. \n\n\n\nMeet Lower carpark\, Cockshot Road\, Malvern Link Common\, ref 190776470. \n\n\n\nLeader: Rita 07969 663843
URL:https://walkmalvern.org.uk/walk/malvern-green-spaces/
CATEGORIES:Short Walks
END:VEVENT
BEGIN:VEVENT
DTSTART;TZID=Europe/London:20240210T090000
DTEND;TZID=Europe/London:20240210T150000
DTSTAMP:20260425T120504
CREATED:20240130T190119Z
LAST-MODIFIED:20240130T190120Z
UID:694-1707555600-1707577200@walkmalvern.org.uk
SUMMARY:An ascent of Bredon Hill south face
DESCRIPTION:9:10am at Imperial Road.10:00am at start. \n\n\n\nPark and meet in the playing fields car park in Bredon(Explorer 190\, SO 927 369\, GL20 7LX. Note that there is a second car park about 100 metres further along the road that can be used\, together with street parking in Church Street.) for a 10:00am start of a hard 8 mile walk. We will ascend via Kemerton and Bell’s Castle\, returning via the King & Queen Stones and Westmancote. BPL. \n\n\n\nLeaders: Ray and Mary – 07736 229751.
URL:https://walkmalvern.org.uk/walk/an-ascent-of-bredon-hill-south-face/
CATEGORIES:Long Walks
END:VEVENT
BEGIN:VEVENT
DTSTART;TZID=Europe/London:20240214T100000
DTEND;TZID=Europe/London:20240214T130000
DTSTAMP:20260425T120504
CREATED:20240202T125744Z
LAST-MODIFIED:20240202T130006Z
UID:712-1707904800-1707915600@walkmalvern.org.uk
SUMMARY:Worcester Woody Walk
DESCRIPTION:From Worcester Woods Country Park. Over tracks\, roads and woods.  \n\n\n\nMainly flat – 1 incline and descent. \n\n\n\n4.5 miles. \n\n\n\nLeader: Allan 01684 891760 \n\n\n\nMeet at Worcester Woods Country Park car park. WR5 2LG.  \n\n\n\nExp 204 SO 878543.
URL:https://walkmalvern.org.uk/walk/worcester-woody-walk/
CATEGORIES:Short Walks
END:VEVENT
BEGIN:VEVENT
DTSTART;TZID=Europe/London:20240217T090000
DTEND;TZID=Europe/London:20240217T150000
DTSTAMP:20260425T120504
CREATED:20240130T191135Z
LAST-MODIFIED:20240130T191135Z
UID:696-1708160400-1708182000@walkmalvern.org.uk
SUMMARY:Knightwick to Martley and back
DESCRIPTION:9:15am at Imperial Road.10:00am at start. \n\n\n\nPark and meet in the car park behind the Talbot atKnightwick Pub (accessed via a track at the right ofthe pub\, Explorer 204\, SO 733 561\, WR6 5PH)\, for a10:00am start of a moderate 8 mile walk\, mostly inundulating farmland and woodland\, with onestrenuous climb and some great views. BPL. \n\n\n\nLeaders: David and Hermine – 07801 732614.
URL:https://walkmalvern.org.uk/walk/knightwick-to-martley-and-back/
CATEGORIES:Long Walks
END:VEVENT
BEGIN:VEVENT
DTSTART;TZID=Europe/London:20240217T100000
DTEND;TZID=Europe/London:20240217T130000
DTSTAMP:20260425T120504
CREATED:20240202T130531Z
LAST-MODIFIED:20240216T122652Z
UID:716-1708164000-1708174800@walkmalvern.org.uk
SUMMARY:Colwall
DESCRIPTION:THIS WALK IS NOW CANCELLED DUE TO ILLNESS. From Colwall Church car park. Lanes\, fields\, 7 stiles. A few gentle hills. \n\n\n\n5 miles. \n\n\n\nMeet at St. James the Great car park. Permission obtained. SO739423. WR13 6HE. \n\n\n\nLeader: Sally S. 07811 110213
URL:https://walkmalvern.org.uk/walk/colwall/
CATEGORIES:Short Walks
END:VEVENT
BEGIN:VEVENT
DTSTART;TZID=Europe/London:20240221T100000
DTEND;TZID=Europe/London:20240221T120000
DTSTAMP:20260425T120504
CREATED:20240202T131101Z
LAST-MODIFIED:20240202T131102Z
UID:718-1708509600-1708516800@walkmalvern.org.uk
SUMMARY:Extra Easy Walk
DESCRIPTION:Meet near entrance to Morrisons 190/794482. To Madresfield through community woodland. \n\n\n\nLeader: Sybil – 01684 778308. \n\n\n\n3 to 3.5 miles.  \n\n\n\nParking at Morrisons or Retail Park.
URL:https://walkmalvern.org.uk/walk/extra-easy-walk/
CATEGORIES:Short Walks
END:VEVENT
BEGIN:VEVENT
DTSTART;TZID=Europe/London:20240224T100000
DTEND;TZID=Europe/London:20240224T130000
DTSTAMP:20260425T120504
CREATED:20240202T131445Z
LAST-MODIFIED:20240202T131446Z
UID:720-1708768800-1708779600@walkmalvern.org.uk
SUMMARY:Forthampton
DESCRIPTION:5 miles \n\n\n\nLeader: Sally S. – 07811 110213 \n\n\n\nParking at Forthampton Church GL19 4QW. On the road and laybys by the church.
URL:https://walkmalvern.org.uk/walk/forthampton/
CATEGORIES:Short Walks
END:VEVENT
BEGIN:VEVENT
DTSTART;TZID=Europe/London:20240224T100000
DTEND;TZID=Europe/London:20240224T150000
DTSTAMP:20260425T120504
CREATED:20240130T191609Z
LAST-MODIFIED:20240130T191610Z
UID:698-1708768800-1708786800@walkmalvern.org.uk
SUMMARY:Cowleigh and Halesend
DESCRIPTION:9:45am at Imperial Road. \n\n\n\n10:00am at start.Park and meet in the the car park at EarlBeauchamp’s spout (Explorer 190\, SO 766 475) for a10:00am start of a moderate 8 mile walk via CockshotHill\, Halesend and Whitmans Hill. BPL. \n\n\n\nLeaders: Liam and Jane – 01684 568441.
URL:https://walkmalvern.org.uk/walk/cowleigh-and-halesend/
CATEGORIES:Long Walks
END:VEVENT
END:VCALENDAR